BEGIN:VCALENDAR
VERSION:2.0
PRODID:-//ChamberMaster//Event Calendar 2.0//EN
METHOD:PUBLISH
X-PUBLISHED-TTL:P3D
REFRESH-INTERVAL:P3D
CALSCALE:GREGORIAN
BEGIN:VEVENT
DTSTART:20181026T230000Z
DTEND:20181027T035500Z
X-MICROSOFT-CDO-ALLDAYEVENT:FALSE
SUMMARY:1891 Gala
DESCRIPTION:Benefiting YMCA OF MONTCLAIR Honoring THE MCMULLEN FAMILY FOUNDATION KATE STANTON PAULE AND LESLIE WALLACE OF THE MONTCLAIR PUBLIC SCHOOLS TRANSITION PROGRAM Emcee AMY SCOTT Attire: Masquerade/Black and White (optional)
X-ALT-DESC;FMTTYPE=text/html:Benefiting YMCA OF MONTCLAIR Honoring THE MCMULLEN FAMILY FOUNDATION KATE STANTON PAULE AND LESLIE WALLACE OF THE MONTCLAIR PUBLIC SCHOOLS TRANSITION PROGRAM Emcee AMY SCOTT Attire: Masquerade/Black and White (optional)
LOCATION:Valley Regency 1129 Valley Rd.\, Clifton\, NJ
UID:e.2237.1512
SEQUENCE:3
DTSTAMP:20260419T164215Z
URL:https://business.northessexchamber.com/events/details/1891-gala-1512
END:VEVENT

END:VCALENDAR
