BEGIN:VCALENDAR
VERSION:2.0
PRODID:-//ChamberMaster//Event Calendar 2.0//EN
METHOD:PUBLISH
X-PUBLISHED-TTL:P3D
REFRESH-INTERVAL:P3D
CALSCALE:GREGORIAN
BEGIN:VEVENT
DTSTART:20181115T230000Z
DTEND:20181116T020000Z
X-MICROSOFT-CDO-ALLDAYEVENT:FALSE
SUMMARY:Breaking the Chain Through Education Fifth Annual Dinner Fundraiser
DESCRIPTION:Silent  Auction \,  Raffle \,  Live  Music \, Inspirational  Speakers  \n\nWe  will  hear  from  Michael \,  one  of  our children  from  Ghana \,  who  was  rescued  and educated  by  BTCTE .
X-ALT-DESC;FMTTYPE=text/html:Silent&nbsp\; Auction \,&nbsp\; Raffle \,&nbsp\; Live&nbsp\; Music \, Inspirational&nbsp\; Speakers&nbsp\;&nbsp\;<br />\nWe&nbsp\; will&nbsp\; hear&nbsp\; from&nbsp\; Michael \,&nbsp\; one&nbsp\; of&nbsp\; our children&nbsp\; from&nbsp\; Ghana \,&nbsp\; who&nbsp\; was&nbsp\; rescued&nbsp\; and educated&nbsp\; by&nbsp\; BTCTE .<br />\n<br />\n&nbsp\;
LOCATION:Wilshire Grand 350 Pleasant Valley Way \, West Orange \, NJ
UID:e.2237.1541
SEQUENCE:3
DTSTAMP:20260419T145941Z
URL:https://business.northessexchamber.com/events/details/breaking-the-chain-through-education-fifth-annual-dinner-fundraiser-1541
END:VEVENT

END:VCALENDAR
