BEGIN:VCALENDAR
VERSION:2.0
PRODID:-//ChamberMaster//Event Calendar 2.0//EN
METHOD:PUBLISH
X-PUBLISHED-TTL:P3D
REFRESH-INTERVAL:P3D
CALSCALE:GREGORIAN
BEGIN:VEVENT
DTSTART:20181014T150000Z
DTEND:20181014T160000Z
X-MICROSOFT-CDO-ALLDAYEVENT:FALSE
SUMMARY:Equality Walk Weekend
DESCRIPTION:GARDEN STATE EQUALITY\, New Jersey's largest LGBT rights organization\,\n\nwould love to see you at their upcoming Equality Walk Weekend!\n\nNow in its 9th year\, Equality Walk is one of their most popular events\, drawing hundreds of participants annually.\n\nThis year\, to underscore their commitment to all of New Jersey\, they're holding a total of three walks: Atlantic City\, Asbury Park\, and Montclair. Equality Walk\n\n\n\nLocal Businesses\, be sure to create a team under your business name and get some visibility at the walk and on the Equality Walk Weekend website!\n\nFeel free to email rodriguez@gardenstateequality.org  with any questions or concerns!\n\n\n\nhttp://www.gardenstateequality.org
X-ALT-DESC;FMTTYPE=text/html:<span style="font-family:helvetica\,sans-serif\;"><span style="font-size:12.0pt\;">GARDEN STATE EQUALITY\, New Jersey&rsquo\;s largest LGBT rights organization\,</span></span><br />\n<span style="font-family:helvetica\,sans-serif\;"><span style="font-size:12.0pt\;">would love to see you at their upcoming&nbsp\;<strong>Equality Walk Weekend</strong>!</span></span><br />\n<span style="font-family:helvetica\,sans-serif\;"><span style="font-size:12.0pt\;">Now in its 9th year\, Equality Walk is one of their most popular events\, drawing hundreds of participants annually.</span></span><br />\n<span style="font-family:helvetica\,sans-serif\;"><span style="font-size:12.0pt\;">This year\, to underscore their commitment to&nbsp\;all&nbsp\;of New Jersey\, they&rsquo\;re holding a total of three walks: Atlantic City\, Asbury Park\, and Montclair.&nbsp\;<strong>Equality Walk</strong></span></span><br />\n<br />\n<strong><span style="font-family: helvetica\, sans-serif\;"><span style="font-size: 12pt\;">Local Businesses</span></span></strong><span style="font-family: helvetica\, sans-serif\;"><span style="font-size: 12pt\;">\, be sure to create a team under your business name and get some visibility at the walk and on the Equality Walk Weekend website!</span></span><br />\n<span style="font-family:helvetica\,sans-serif\;"><span style="font-size:12.0pt\;">Feel free to email&nbsp\;<a href="mailto:rodriguez@gardenstateequality.org" target="_blank">rodriguez@gardenstateequality.org</a>&nbsp\;&nbsp\;with any questions or concerns!<br />\n<br />\n<a href="http://www.gardenstateequality.org/?e=a6760402f44856d858cc2300c62c6f2f&amp\;utm_source=gardenstateequality&amp\;utm_medium=email&amp\;utm_campaign=ew_follow_up_locals&amp\;n=3&amp\;test_email=1" target="_blank"><span style="color: rgb(20\, 136\, 185)\;">http://www.gardenstateequality.org</span></a></span></span>
LOCATION:Weekend will take place on Saturday\, October 13th - Sunday\, October 14th. Hurry\, there's still time to register for the Montclair Walk (Saturday\, Oct 13 @ Noon). Visit: https://equalitywalk.rallybound.org/.
UID:e.2237.1516
SEQUENCE:3
DTSTAMP:20260419T164015Z
URL:https://business.northessexchamber.com/events/details/equality-walk-weekend-1516
END:VEVENT

END:VCALENDAR
