BEGIN:VCALENDAR
VERSION:2.0
PRODID:-//ChamberMaster//Event Calendar 2.0//EN
METHOD:PUBLISH
X-PUBLISHED-TTL:P3D
REFRESH-INTERVAL:P3D
CALSCALE:GREGORIAN
BEGIN:VEVENT
DTSTART:20211009T140000Z
DTEND:20211009T150000Z
X-MICROSOFT-CDO-ALLDAYEVENT:FALSE
SUMMARY:Hispanic Heritage Month Event
DESCRIPTION:Hispanic Heritage Month Event\n\nWe are organizing this event to increase Hispanic awareness around the community.  We'll have music\, singing\, dancing\, and a flamenco demonstration for the whole family.\n\nPresented by Admission Nation
X-ALT-DESC;FMTTYPE=text/html:<span style="color:#B22222\;"><span style="font-size:18px\;">Hispanic Heritage Month Event<br />\n<span style="font-family: arial\;">We are organizing this event to increase Hispanic awareness around the community. &nbsp\;</span><span style="-webkit-text-stroke: rgb(133\, 0\, 76)\; font-family: &quot\;Helvetica Neue&quot\;\;">We&#39\;ll have music\, singing\, dancing\, and a flamenco demonstration for the whole family.<br />\nPresented by <a href="http://admission-nation.com/">Admission Nation</a></span></span></span>
LOCATION:Watchung Plaza Montclair\, NJ
UID:e.2237.3786
SEQUENCE:3
DTSTAMP:20260421T212942Z
URL:https://business.northessexchamber.com/events/details/hispanic-heritage-month-event-3786
END:VEVENT

END:VCALENDAR
