BEGIN:VCALENDAR
VERSION:2.0
PRODID:-//ChamberMaster//Event Calendar 2.0//EN
METHOD:PUBLISH
X-PUBLISHED-TTL:P3D
REFRESH-INTERVAL:P3D
CALSCALE:GREGORIAN
BEGIN:VEVENT
DTSTART:20211021T160000Z
DTEND:20211021T170000Z
X-MICROSOFT-CDO-ALLDAYEVENT:FALSE
SUMMARY:MASTERCLASS Pt. 2: Behavior Planning
DESCRIPTION:"We are what we repeatedly do. Excellence\, therefore\, is a habit." -Artisotle\n\n\nHere's the truth   we have virtually zero control over our results.  Yep\, you heard me right.   BUT   we have 100% control over our behavior and the right actions lead to better results.  Period.\n\nDuring this one hour lunch and learn [whatever] we will continue our work on the One Page Business Plan with a specific focus on both the behavior and mindset of prospecting.  Topics we will cover include:\n\n\n	Niche marketing\n	Social media best practices\n	Thought Leadership & Building centers of influence\n	The power of CRM and why it's essential\n	Accountability and tracking behavior\n\n\nThe goal: keeping your pipeline FULL no matter what's happening (or not happening) in your marketplace.\n\n\n"Here's what I know for sure:  I took a 6-month course on how to write business plan before opening my company.  I just about turned myself inside out.  But\, it helped me to raise the funding I needed to open and has been a cornerstone of my success ever since.  I call on that planning skill set again and again.  It is the foundation on which I've built a company that runs without me." -Donna Miller\, Founder C3Workplace\n\n\nDonna Miller\, 26+ year business owner and highly sought-after business growth consultant\, presents her first ever Master Class to teach you\, step by step\, how to write your own One Page Business Plan.  It's a very simple approach to creating your roadmap to success.\n\nWho should attend:\n\n\n	Aspiring Entrepreneurs who need to beta test their start up idea\n	Start- ups who have taken the plunge and now must create strategies for success\n	Business Owners who want\, or need\, to up level their results\n	Solopreneurs who aspire to build organizations that will run without them involved in the day to day\n\n\nYou will learn Four Critical Building Blocks of successful companies:\n\n\n	Financial foundations   avoid the #1 mistake business owners make and how to course correct (lack of financial literacy\, paying yourself first\, charging what you are worth / as if you are already hiring someone to do the work)\n	How to keep your sales pipeline full (target and niche marketing)\n	Creating higher prospect to client conversion ratios and close more sales (referrals)\n	How to avoid the peaks and valleys of income and cash flow on the road to building a company that runs without you.  (behavior planning)\n\n\nDuring this 60-minute interactive class\, for the first time ever\, Donna will share the World's Simplest One Page Business Plan  and the exact formula you can apply to drive results and success!\n\nWhether you're running your business without a plan or ready to simplify your current business plan\, you will leave this Master Class with a plan that is rooted in financial literacy and the key behaviors that will impact your bottom line.
X-ALT-DESC;FMTTYPE=text/html:<blockquote style="border-top: none\; border-right: none\; border-bottom: none\; border-left-width: 4px\; border-left-color: rgb(214\, 214\, 214)\; border-image: initial\; font-style: normal\; font-variant-numeric: inherit\; font-variant-east-asian: inherit\; font-stretch: inherit\; font-size: 14px\; line-height: inherit\; font-family: Raleway\, sans-serif\; margin: 1.6em 0px\; padding: 0px 1em\; vertical-align: baseline\; quotes: none\; background: rgb(249\, 249\, 249)\; overflow: auto\; color: rgb(34\, 34\, 34)\;">\n<p style="border: 0px\; font-style: italic\; font-variant: inherit\; font-weight: inherit\; font-stretch: inherit\; font-size: 18px\; line-height: 26px\; font-family: Georgia\, &quot\;Times New Roman&quot\;\, Times\, serif\; margin: 0px 0px 15px\; padding: 0px\; vertical-align: baseline\; overflow-wrap: break-word\;"><span style="border: 0px\; font-style: inherit\; font-variant: inherit\; font-weight: 700\; font-stretch: inherit\; font-size: inherit\; line-height: inherit\; font-family: inherit\; margin: 0px\; padding: 0px\; vertical-align: baseline\;">&ldquo\;We are what we repeatedly do. Excellence\, therefore\, is a habit.&rdquo\; -Artisotle</span></p>\n</blockquote>\n\n<p style="border: 0px\; font-variant-numeric: inherit\; font-variant-east-asian: inherit\; font-stretch: inherit\; font-size: 14px\; line-height: inherit\; font-family: Raleway\, sans-serif\; margin: 0px 0px 15px\; padding: 0px\; vertical-align: baseline\; overflow-wrap: break-word\; color: rgb(34\, 34\, 34)\;">Here&rsquo\;s the truth &ndash\; we have virtually zero control over our results.&nbsp\; Yep\, you heard me right.&nbsp\; &nbsp\;BUT &hellip\; we have 100% control over our behavior and the right actions lead to better results.&nbsp\; Period.</p>\n\n<p style="border: 0px\; font-variant-numeric: inherit\; font-variant-east-asian: inherit\; font-stretch: inherit\; font-size: 14px\; line-height: inherit\; font-family: Raleway\, sans-serif\; margin: 0px 0px 15px\; padding: 0px\; vertical-align: baseline\; overflow-wrap: break-word\; color: rgb(34\, 34\, 34)\;">During this one hour lunch and learn [whatever] we will continue our work on the One Page Business Plan with a specific focus on both the behavior and mindset of prospecting.&nbsp\; Topics we will cover include:</p>\n\n<ul style="border: 0px\; font-variant-numeric: inherit\; font-variant-east-asian: inherit\; font-stretch: inherit\; font-size: 14px\; line-height: inherit\; font-family: Raleway\, sans-serif\; margin: 5px 1.5em 1.5em 10px\; padding-right: 0px\; padding-left: 2em\; vertical-align: baseline\; list-style-position: initial\; list-style-image: initial\; color: rgb(34\, 34\, 34)\;">\n	<li style="border: 0px\; font: inherit\; margin: 0px 0px 0px 40px\; padding: 0px\; vertical-align: baseline\; list-style: disc\;">Niche marketing</li>\n	<li style="border: 0px\; font: inherit\; margin: 0px 0px 0px 40px\; padding: 0px\; vertical-align: baseline\; list-style: disc\;">Social media best practices</li>\n	<li style="border: 0px\; font: inherit\; margin: 0px 0px 0px 40px\; padding: 0px\; vertical-align: baseline\; list-style: disc\;">Thought Leadership &amp\; Building centers of influence</li>\n	<li style="border: 0px\; font: inherit\; margin: 0px 0px 0px 40px\; padding: 0px\; vertical-align: baseline\; list-style: disc\;">The power of CRM and why it&rsquo\;s essential</li>\n	<li style="border: 0px\; font: inherit\; margin: 0px 0px 0px 40px\; padding: 0px\; vertical-align: baseline\; list-style: disc\;">Accountability and tracking behavior</li>\n</ul>\n\n<p style="border: 0px\; font-variant-numeric: inherit\; font-variant-east-asian: inherit\; font-stretch: inherit\; font-size: 14px\; line-height: inherit\; font-family: Raleway\, sans-serif\; margin: 0px 0px 15px\; padding: 0px\; vertical-align: baseline\; overflow-wrap: break-word\; color: rgb(34\, 34\, 34)\;"><span style="border: 0px\; font-style: inherit\; font-variant: inherit\; font-weight: 700\; font-stretch: inherit\; font-size: inherit\; line-height: inherit\; font-family: inherit\; margin: 0px\; padding: 0px\; vertical-align: baseline\;">The goal:</span>&nbsp\;keeping your pipeline FULL no matter what&rsquo\;s happening (or not happening) in your marketplace.</p>\n\n<blockquote style="border-top: none\; border-right: none\; border-bottom: none\; border-left-width: 4px\; border-left-color: rgb(214\, 214\, 214)\; border-image: initial\; font-style: normal\; font-variant-numeric: inherit\; font-variant-east-asian: inherit\; font-stretch: inherit\; font-size: 14px\; line-height: inherit\; font-family: Raleway\, sans-serif\; margin: 1.6em 0px\; padding: 0px 1em\; vertical-align: baseline\; quotes: none\; background: rgb(249\, 249\, 249)\; overflow: auto\; color: rgb(34\, 34\, 34)\;">\n<p style="border: 0px\; font-style: italic\; font-variant: inherit\; font-weight: inherit\; font-stretch: inherit\; font-size: 18px\; line-height: 26px\; font-family: Georgia\, &quot\;Times New Roman&quot\;\, Times\, serif\; margin: 0px 0px 15px\; padding: 0px\; vertical-align: baseline\; overflow-wrap: break-word\;"><em style="border: 0px\; font-variant: inherit\; font-weight: inherit\; font-stretch: inherit\; font-size: inherit\; line-height: inherit\; font-family: inherit\; margin: 0px\; padding: 0px\; vertical-align: baseline\;">&ldquo\;Here&rsquo\;s what I know for sure:&nbsp\; I took a 6-month course on how to write business plan before opening my company. &nbsp\;I just about turned myself inside out.&nbsp\; But\, it helped me to raise the funding I needed to open and has been a cornerstone of my success ever since.&nbsp\; I call on that planning skill set again and again.&nbsp\; It is the foundation on which I&rsquo\;ve built a company that runs without me.&rdquo\; -Donna Miller\, Founder C3Workplace</em></p>\n</blockquote>\n\n<p style="border: 0px\; font-variant-numeric: inherit\; font-variant-east-asian: inherit\; font-stretch: inherit\; font-size: 14px\; line-height: inherit\; font-family: Raleway\, sans-serif\; margin: 0px 0px 15px\; padding: 0px\; vertical-align: baseline\; overflow-wrap: break-word\; color: rgb(34\, 34\, 34)\;">Donna Miller\, 26+ year business owner and highly sought-after business growth consultant\, presents her first ever Master Class to teach you\, step by step\, how to write your own One Page Business Plan. &nbsp\;It&rsquo\;s a very simple approach to creating your roadmap to success.</p>\n\n<p style="border: 0px\; font-variant-numeric: inherit\; font-variant-east-asian: inherit\; font-stretch: inherit\; font-size: 14px\; line-height: inherit\; font-family: Raleway\, sans-serif\; margin: 0px 0px 15px\; padding: 0px\; vertical-align: baseline\; overflow-wrap: break-word\; color: rgb(34\, 34\, 34)\;"><span style="border: 0px\; font-style: inherit\; font-variant: inherit\; font-weight: 700\; font-stretch: inherit\; font-size: inherit\; line-height: inherit\; font-family: inherit\; margin: 0px\; padding: 0px\; vertical-align: baseline\;">Who should attend:</span></p>\n\n<ul style="border: 0px\; font-variant-numeric: inherit\; font-variant-east-asian: inherit\; font-stretch: inherit\; font-size: 14px\; line-height: inherit\; font-family: Raleway\, sans-serif\; margin: 5px 1.5em 1.5em 10px\; padding-right: 0px\; padding-left: 2em\; vertical-align: baseline\; list-style-position: initial\; list-style-image: initial\; color: rgb(34\, 34\, 34)\;">\n	<li style="border: 0px\; font: inherit\; margin: 0px 0px 0px 40px\; padding: 0px\; vertical-align: baseline\; list-style: disc\;">Aspiring Entrepreneurs who need to beta test their start up idea</li>\n	<li style="border: 0px\; font: inherit\; margin: 0px 0px 0px 40px\; padding: 0px\; vertical-align: baseline\; list-style: disc\;">Start- ups who have taken the plunge and now must create strategies for success</li>\n	<li style="border: 0px\; font: inherit\; margin: 0px 0px 0px 40px\; padding: 0px\; vertical-align: baseline\; list-style: disc\;">Business Owners who want\, or need\, to up level their results</li>\n	<li style="border: 0px\; font: inherit\; margin: 0px 0px 0px 40px\; padding: 0px\; vertical-align: baseline\; list-style: disc\;">Solopreneurs who aspire to build organizations that will run without them involved in the day to day</li>\n</ul>\n\n<p style="border: 0px\; font-variant-numeric: inherit\; font-variant-east-asian: inherit\; font-stretch: inherit\; font-size: 14px\; line-height: inherit\; font-family: Raleway\, sans-serif\; margin: 0px 0px 15px\; padding: 0px\; vertical-align: baseline\; overflow-wrap: break-word\; color: rgb(34\, 34\, 34)\;">You will learn&nbsp\;<span style="border: 0px\; font-style: inherit\; font-variant: inherit\; font-weight: 700\; font-stretch: inherit\; font-size: inherit\; line-height: inherit\; font-family: inherit\; margin: 0px\; padding: 0px\; vertical-align: baseline\;">Four Critical Building Blocks</span>&nbsp\;of successful companies:</p>\n\n<ol style="border: 0px\; font-variant-numeric: inherit\; font-variant-east-asian: inherit\; font-stretch: inherit\; font-size: 14px\; line-height: 22px\; font-family: Raleway\, sans-serif\; margin: 0px 1.5em 1.5em 0px\; padding-right: 0px\; padding-left: 2em\; vertical-align: baseline\; list-style-position: outside\; list-style-image: initial\; color: rgb(34\, 34\, 34)\;">\n	<li style="border: 0px\; font: inherit\; margin: 0px\; padding: 0px\; vertical-align: baseline\;"><span style="border: 0px\; font-style: inherit\; font-variant: inherit\; font-weight: 700\; font-stretch: inherit\; font-size: inherit\; line-height: inherit\; font-family: inherit\; margin: 0px\; padding: 0px\; vertical-align: baseline\;">Financial</span>&nbsp\;foundations &ndash\; avoid the #1 mistake business owners make and how to course correct (lack of financial literacy\, paying yourself first\, charging what you are worth / as if you are already hiring someone to do the work)</li>\n	<li style="border: 0px\; font: inherit\; margin: 0px\; padding: 0px\; vertical-align: baseline\;">How to keep your&nbsp\;<span style="border: 0px\; font-style: inherit\; font-variant: inherit\; font-weight: 700\; font-stretch: inherit\; font-size: inherit\; line-height: inherit\; font-family: inherit\; margin: 0px\; padding: 0px\; vertical-align: baseline\;">sales pipeline</span>&nbsp\;full (target and niche marketing)</li>\n	<li style="border: 0px\; font: inherit\; margin: 0px\; padding: 0px\; vertical-align: baseline\;">Creating higher&nbsp\;<span style="border: 0px\; font-style: inherit\; font-variant: inherit\; font-weight: 700\; font-stretch: inherit\; font-size: inherit\; line-height: inherit\; font-family: inherit\; margin: 0px\; padding: 0px\; vertical-align: baseline\;">prospect to client conversion ratios&nbsp\;</span>and close more sales (referrals)</li>\n	<li style="border: 0px\; font: inherit\; margin: 0px\; padding: 0px\; vertical-align: baseline\;">How to&nbsp\;<span style="border: 0px\; font-style: inherit\; font-variant: inherit\; font-weight: 700\; font-stretch: inherit\; font-size: inherit\; line-height: inherit\; font-family: inherit\; margin: 0px\; padding: 0px\; vertical-align: baseline\;">avoid the peaks and valleys of income and cash flow</span>&nbsp\;on the road to building a company that runs without you. &nbsp\;(behavior planning)</li>\n</ol>\n\n<p style="border: 0px\; font-variant-numeric: inherit\; font-variant-east-asian: inherit\; font-stretch: inherit\; font-size: 14px\; line-height: inherit\; font-family: Raleway\, sans-serif\; margin: 0px 0px 15px\; padding: 0px\; vertical-align: baseline\; overflow-wrap: break-word\; color: rgb(34\, 34\, 34)\;">During this 60-minute interactive class\, for the first time ever\, Donna will share the&nbsp\;<span style="border: 0px\; font-style: inherit\; font-variant: inherit\; font-weight: 700\; font-stretch: inherit\; font-size: inherit\; line-height: inherit\; font-family: inherit\; margin: 0px\; padding: 0px\; vertical-align: baseline\;">World&rsquo\;s Simplest One Page Business Plan&copy\;</span>&nbsp\;and the exact formula you can apply to drive results and success!</p>\n\n<p style="border: 0px\; font-variant-numeric: inherit\; font-variant-east-asian: inherit\; font-stretch: inherit\; font-size: 14px\; line-height: inherit\; font-family: Raleway\, sans-serif\; margin: 0px 0px 15px\; padding: 0px\; vertical-align: baseline\; overflow-wrap: break-word\; color: rgb(34\, 34\, 34)\;">Whether you&rsquo\;re running your business without a plan or ready to simplify your current business plan\, you will leave this Master Class with a plan that is rooted in financial literacy and the key behaviors that&nbsp\;<em style="border: 0px\; font-variant: inherit\; font-weight: inherit\; font-stretch: inherit\; font-size: inherit\; line-height: inherit\; font-family: inherit\; margin: 0px\; padding: 0px\; vertical-align: baseline\;">will</em>&nbsp\;impact your bottom line.</p>\n
LOCATION:Join us for a hybrid in-person and online class mastermind where Donna Miller will teach you\, step by step\, how to plan successful behaviors. It's a very simple approach to creating your roadmap to success. This in-person event is limited to ten people and will include like-minded professionals that you'll definitely want seated at your table!
UID:e.2237.3328
SEQUENCE:3
DTSTAMP:20260421T223944Z
URL:https://business.northessexchamber.com/events/details/masterclass-pt-2-behavior-planning-3328
END:VEVENT

END:VCALENDAR
