BEGIN:VCALENDAR
VERSION:2.0
PRODID:-//ChamberMaster//Event Calendar 2.0//EN
METHOD:PUBLISH
X-PUBLISHED-TTL:P3D
REFRESH-INTERVAL:P3D
CALSCALE:GREGORIAN
BEGIN:VEVENT
DTSTART:20211014T120000Z
DTEND:20211014T133000Z
X-MICROSOFT-CDO-ALLDAYEVENT:FALSE
SUMMARY:NECC Business Resource Breakfast
DESCRIPTION:The North Essex Business Resource Breakfast is a structured networking event providing each attendee the opportunity to present a brief commercial about their business and interact with members and guests. Each breakfast features a business leader speaking on a topic of interest. Attendees receive contact information for all other attendees and the opportunity to openly network with one another in a casual and friendly atmosphere.\n\nAt this meeting\, Amya Zhanelle\, owner of AZ Is Media will make a special presentation on: \n\nTricks and Treats for Social Media Management\n\n \n\nOur thanks go to Cloverleaf Tavern and Shoprite of Caldwell whose generosity makes the Business Resource Breakfast possible.\n\n\n\nWould you like to speak at one of our monthly events? Complete this form.
X-ALT-DESC;FMTTYPE=text/html:<p>The North Essex Business Resource Breakfast is a structured networking event providing each attendee the opportunity to present a brief commercial about their business and interact with members and guests. Each breakfast features a business leader speaking on a topic of interest. Attendees receive contact information for all other attendees and the opportunity to openly network with one another in a casual and friendly atmosphere.</p>\n\n<p><span style="font-size:16px\;">At this meeting\, <strong>Amya Zhanelle\, owner of&nbsp\;AZ&nbsp\;Is Media</strong> will make a special presentation on:&nbsp\;</span></p>\n\n<div style="text-align: center\;"><strong><span style="color:#FF8C00\;"><span style="font-size:18px\;">Tricks and Treats for Social Media Management</span></span></strong></div>\n\n<div>&nbsp\;</div>\n\n<p><span background-color:="" font-size:="" style="color: rgb(51\, 51\, 51)\; font-family: sans-serif\, Arial\, Verdana\, " trebuchet="">Our thanks go to&nbsp\;</span><u font-size:="" style="color: rgb(51\, 51\, 51)\; font-family: sans-serif\, Arial\, Verdana\, " trebuchet=""><strong><a href="http://www.cloverleaftavern.com/" style="color: rgb(7\, 130\, 193)\;">Cloverleaf Tavern</a></strong></u><span background-color:="" font-size:="" style="color: rgb(51\, 51\, 51)\; font-family: sans-serif\, Arial\, Verdana\, " trebuchet="">&nbsp\;and&nbsp\;</span><u font-size:="" style="color: rgb(51\, 51\, 51)\; font-family: sans-serif\, Arial\, Verdana\, " trebuchet=""><strong><a href="http://www.shoprite.com/pd/stores/NJ/West-Caldwell/ShopRite-of-West-Caldwell/F3C9730" style="color: rgb(7\, 130\, 193)\;">Shoprite of Caldwell</a></strong></u><span background-color:="" font-size:="" style="color: rgb(51\, 51\, 51)\; font-family: sans-serif\, Arial\, Verdana\, " trebuchet="">&nbsp\;whose generosity makes the Business Resource Breakfast possible.</span><br />\n<br />\nWould you like to speak at&nbsp\;one of our monthly events?&nbsp\;<a href="http://business.northessexchamber.com/form/view/11478"><strong>Complete this form.</strong></a></p>\n
LOCATION:Business Resource Breakfasts are OUTSIDE at: Cloverleaf Tavern 395 Bloomfield Avenue\, Caldwell Parking is available in the rear or on the street. Please enter at the rear of the building.
UID:e.2237.3314
SEQUENCE:3
DTSTAMP:20260421T212837Z
URL:https://business.northessexchamber.com/events/details/necc-business-resource-breakfast-10-14-2021-3314
END:VEVENT

END:VCALENDAR
