BEGIN:VCALENDAR
VERSION:2.0
PRODID:-//ChamberMaster//Event Calendar 2.0//EN
METHOD:PUBLISH
X-PUBLISHED-TTL:P3D
REFRESH-INTERVAL:P3D
CALSCALE:GREGORIAN
BEGIN:VEVENT
DTSTART:20181011T111500Z
DTEND:20181011T130000Z
X-MICROSOFT-CDO-ALLDAYEVENT:FALSE
SUMMARY:NECC Business Resource Breakfast
DESCRIPTION:The North Essex Business Resource Breakfast is a structured networking event providing each attendee the opportunity to present a brief commercial about their business and interact with members and guests. Each breakfast features a business leader speaking on a topic of interest. Attendees receive contact information for all other attendees and the opportunity to openly network with one another in a casual and friendly atmosphere.\n\n\n\nThis meeting's speakers will be:\n\nNina Tucker\, President of Noesis Marketing who will be speaking on How to Make Your Social Media More Effective.\n\nLarry Reed of ZKTECO USA will be speaking on the importance of "Layered Security" to protect your business & visitors.\n\n\n\nOur thanks go to Cloverleaf Tavern and Shoprite of Caldwell whose generosity make Business Resource Breakfast possible.\n\n\n\nWould you like to speak at one of our monthly events? Complete this form.
X-ALT-DESC;FMTTYPE=text/html:The North Essex Business Resource Breakfast is a stru<span style="font-family:tahoma\;">ctured networking event providing each attendee the opportunity to present a brief commercial about their business and interact with members and guests. Each breakfast features a business leader speaking on a topic of interest. Attendees receive contact information for all other attendees and the opportunity to openly network with one another in a casual and friendly atmosphere.<br />\n<br />\nThis meeting&#39\;s speakers will be:<br />\nNina Tucker\, President of Noesis Marketing</span> who will be speaking on How to Make Your Social Media More Effective.<br />\n<span style="font-size:12px\;"><span style="font-family:tahoma\;"><span style="background-color: rgb(255\, 255\, 255)\;">Larry Reed of ZKTECO USA will be speaking on&nbsp\;</span><span style="color: rgb(0\, 0\, 0)\;">the importance of &ldquo\;</span><b style="color: rgb(0\, 0\, 0)\; font-family: Calibri\, sans-serif\; font-size: 14.6667px\;">Layered Security&quot\;</b><span style="color: rgb(0\, 0\, 0)\;">&nbsp\;to protect your business &amp\; visitors.</span></span></span><br />\n<br />\n<span style="color: rgb(51\, 51\, 51)\; font-family: sans-serif\, Arial\, Verdana\, &quot\;Trebuchet MS&quot\;\; font-size: 13px\; background-color: rgb(255\, 255\, 255)\;">Our thanks go to&nbsp\;</span><u style="color: rgb(51\, 51\, 51)\; font-family: sans-serif\, Arial\, Verdana\, &quot\;Trebuchet MS&quot\;\; font-size: 13px\;"><strong><a href="http://www.cloverleaftavern.com/" style="color: rgb(7\, 130\, 193)\;">Cloverleaf Tavern</a></strong></u><span style="color: rgb(51\, 51\, 51)\; font-family: sans-serif\, Arial\, Verdana\, &quot\;Trebuchet MS&quot\;\; font-size: 13px\; background-color: rgb(255\, 255\, 255)\;">&nbsp\;and&nbsp\;</span><u style="color: rgb(51\, 51\, 51)\; font-family: sans-serif\, Arial\, Verdana\, &quot\;Trebuchet MS&quot\;\; font-size: 13px\;"><strong><a href="http://www.shoprite.com/pd/stores/NJ/West-Caldwell/ShopRite-of-West-Caldwell/F3C9730" style="color: rgb(7\, 130\, 193)\;">Shoprite of Caldwell</a></strong></u><span style="color: rgb(51\, 51\, 51)\; font-family: sans-serif\, Arial\, Verdana\, &quot\;Trebuchet MS&quot\;\; font-size: 13px\; background-color: rgb(255\, 255\, 255)\;">&nbsp\;whose generosity make Business Resource Breakfast possible.</span><br />\n<br />\nWould you like to speak at&nbsp\;one of our monthly events?&nbsp\;<a href="http://business.northessexchamber.com/form/view/11478"><strong>Complete this form.</strong></a>
LOCATION:Business Resource Breakfasts are held at: Cloverleaf Tavern 395 Bloomfield Avenue\, Caldwell Parking is available on the street and in the rear of the building.
UID:e.2237.1403
SEQUENCE:3
DTSTAMP:20260419T164319Z
URL:https://business.northessexchamber.com/events/details/necc-business-resource-breakfast-1403
END:VEVENT

END:VCALENDAR
