BEGIN:VCALENDAR
VERSION:2.0
PRODID:-//ChamberMaster//Event Calendar 2.0//EN
METHOD:PUBLISH
X-PUBLISHED-TTL:P3D
REFRESH-INTERVAL:P3D
CALSCALE:GREGORIAN
BEGIN:VEVENT
DTSTART:20181005T120000Z
DTEND:20181005T140000Z
X-MICROSOFT-CDO-ALLDAYEVENT:FALSE
SUMMARY:NECC Women to Women First Friday Breakfast
DESCRIPTION:The WOMEN TO WOMEN Committee of the North Essex Chamber of Commerce is a dynamic network of individuals committed to giving women the opportunity to learn from each other in a supportive\, interactive environment.\n\nThe topic for the October 5th meeting will be:\n\n"10 Things Your Website Must Have To be Successful"\n\n- Learn the Pitfalls to Avoid\n\n- Develop Good Returns on your Marketing Investment\n\nPresented by Gene Sower\, Samson Media\n\n\n\nWomen to Women is seeking speakers for our events!\n\n\n	Educate the business women of your business community.\n	Show your expertise by becoming a guest presenter.\n\nWould you like to speak at this or one of the other NECC monthly meetings? Please fill out this form.
X-ALT-DESC;FMTTYPE=text/html:<p><span style="font-size:12px\;"><span style="font-family:tahoma\;">The WOMEN TO WOME</span></span><span style="font-size: 12px\;"><span style="font-family: tahoma\;">N Committee of the North Essex Chamber of Commerce is a dynamic&nbsp\;network of individuals committed to giving women the opportunity to learn from each other&nbsp\;in a supportive\, interactive environment.</span></span><br />\nThe topic for the October 5th meeting will be:<br />\n&quot\;10 Things Your Website Must Have To be Successful&quot\;<br />\n- Learn the Pitfalls to Avoid<br />\n- Develop Good Returns on your Marketing Investment<br />\nPresented by Gene Sower\, Samson Media<br />\n<br />\n<span style="font-size:12px\;"><span style="font-family:tahoma\;"><strong>Women to Women is seeking speakers for our events!</strong></span></span></p>\n\n<ul>\n	<li><span style="font-size:12px\;"><span style="font-family:tahoma\;">Educate the business women of your business community.</span></span></li>\n	<li><span style="font-size:12px\;"><span style="font-family:tahoma\;">Show your expertise by becoming a guest presenter.</span></span></li>\n</ul>\n<span style="font-family: tahoma\; font-size: 12px\;">Would you like to speak at this or one of the other&nbsp\;</span>NECC<span style="font-family: tahoma\; font-size: 12px\;">&nbsp\;monthly meetings?&nbsp\;</span><a href="http://business.northessexchamber.com/form/view/11478" style="font-family: tahoma\; font-size: 12px\;" target="_blank"><strong>Please fill out this form.</strong></a>
LOCATION:NEW LOCATION!! The Women to Women monthly breakfast is held at: Thatcher McGhee's 31 Passaic Avenue Fairfield\, NJ 07004
UID:e.2237.1442
SEQUENCE:3
DTSTAMP:20260419T164705Z
URL:https://business.northessexchamber.com/events/details/necc-women-to-women-first-friday-breakfast-1442
END:VEVENT

END:VCALENDAR
