BEGIN:VCALENDAR
VERSION:2.0
PRODID:-//ChamberMaster//Event Calendar 2.0//EN
METHOD:PUBLISH
X-PUBLISHED-TTL:P3D
REFRESH-INTERVAL:P3D
CALSCALE:GREGORIAN
BEGIN:VEVENT
DTSTART:20181023T160000Z
DTEND:20181023T173000Z
X-MICROSOFT-CDO-ALLDAYEVENT:FALSE
SUMMARY:QuickBooks 201 Workshop
DESCRIPTION:JOIN C3WORKPLACE AND UCEDC AT OFFICE EVOLUTION SUMMIT FOR THIS FREE LUNCH AND LEARN SERIES FOR SMALL BUSINESS OWNERS AND ENTREPRENEURS!\n\n\n\nClick here to register to join us on Tuesday\, October 23rd from 12-1:30pm for the\n\nQUICKBOOKS 201 WORKSHOP\n\n\nCAN'T ATTEND LIVE?\n\nClick here to register to attend virtually from the comfort of your own home or office!\n\n_____________________________________________________________\n\n\n\nGo Beyond the Basics and Unlock the Power of This Feature-Rich Program!\n\n\n\nWe'll show you how to take better advantage of this small business accounting program. You'll be amazed at the depth and breadth of information that can be readily available to you\, about your business\, for your business.\n\n\n\nThis lively\, interactive workshop will introduce you to new features and build on what you already know. It's time to get smarter about your business.\n\nBring your lunch and we'll supply the beverages and dessert!
X-ALT-DESC;FMTTYPE=text/html:JOIN&nbsp\;<a href="https://www.c3workplace.com/" target="_blank">C3WORKPLACE</a>&nbsp\;AND&nbsp\;<a href="https://ucedc.com/" target="_blank">UCEDC</a>&nbsp\;AT&nbsp\;<a href="https://www.officeevolution.com/locations/summit" target="_blank">OFFICE EVOLUTION SUMMIT</a>&nbsp\;FOR THIS FREE LUNCH AND LEARN SERIES FOR SMALL BUSINESS OWNERS AND ENTREPRENEURS!<br />\n<br />\n<a href="https://ucedc.com/event/quickbooks-201/">Click here</a>&nbsp\;to register to join us on Tuesday\, October 23<sup>rd</sup> from 12-1:30pm for the<br />\n<strong><a href="https://www.c3workplace.com/events/workshop-quickbooks-201/">QUICKBOOKS 201 WORKSHOP</a></strong>\n<div align="center" style="text-align:center\;">\n<hr align="center" noshade="noshade" size="3" style="color:#222222\;" width="100%" /></div>\n<strong>CAN&#39\;T ATTEND LIVE?</strong><br />\n<span style="font-family:calibri\,sans-serif\;"><span style="font-size:11.0pt\;"><a href="https://zoom.us/webinar/register/WN_7GNqyKNSQOexIR6P2g-DMQ">Click here&nbsp\;</a></span></span><span style="font-family:calibri\,sans-serif\;"><span style="font-size:11.0pt\;">to register to attend virtually from the comfort of your own home or office!</span></span><br />\n<strong>_____________________________________________________________</strong><br />\n<br />\n<strong><em>Go Beyond the Basics and Unlock the Power of This Feature-Rich Program!</em></strong><br />\n<br />\nWe&rsquo\;ll show you how to take better advantage of this small business accounting program. You&rsquo\;ll be amazed at the depth and breadth of information that can be readily available to you\, about your business\, for your business.<br />\n<br />\nThis lively\, interactive workshop will introduce you to new features and build on what you already know. It&rsquo\;s time to get smarter about your business.<br />\n<strong><em>Bring your lunch and we&rsquo\;ll supply the beverages and dessert!</em></strong>
LOCATION:Office Evolution Summit 350 Springfield Ave.\, Suite 2000 Summit\, NJ 07901
UID:e.2237.1509
SEQUENCE:3
DTSTAMP:20260419T163104Z
URL:https://business.northessexchamber.com/events/details/quickbooks-201-workshop-1509
END:VEVENT

END:VCALENDAR
