BEGIN:VCALENDAR
VERSION:2.0
PRODID:-//ChamberMaster//Event Calendar 2.0//EN
METHOD:PUBLISH
X-PUBLISHED-TTL:P3D
REFRESH-INTERVAL:P3D
CALSCALE:GREGORIAN
BEGIN:VEVENT
DTSTART:20260603T213000Z
DTEND:20260603T230000Z
X-MICROSOFT-CDO-ALLDAYEVENT:FALSE
SUMMARY:The Headshot Hour
DESCRIPTION:Your headshot is often the first impression you make\, on LinkedIn\, your website\, social media\, and beyond. When's the last time you updated yours?\n\nJoin us for a curated\, signature event hosted by AZ Is Media\, designed to help local business professionals refresh their image & expand their network all in one evening!\n\n \n\nHere's what to expect:\n\n\n	A Professional Headshot Session   Each attendee will enjoy a personalized 10-minute photo session. Bring 1 2 outfits to switch up your look and walk away with a variety of polished\, brand-ready images.\n	Your Final Deliverables   Every participant will receive 3 5 professionally edited images plus behind-the-scenes content from your session\, perfect for social media.\n	Networking\, Light Bites & Refreshments   Stick around after your session to mingle with fellow professionals\, enjoy complimentary light bites and refreshments\, and make meaningful connections.\n	A Goodie Bag   Because you deserve a little something extra! Each attendee will leave with a curated goodie bag.\n\n\nTo ensure a quality\, personalized experience\, we're offering headshots to the first 10 registrants.  However\, anyone is welcome to purchase a Just Networking ticket and still be part of the experience\, networking\, light bites\, and all.
X-ALT-DESC;FMTTYPE=text/html:<p><span style="font-size:16px\;">Your headshot is often the first impression you make\, on LinkedIn\, your website\, social media\, and beyond. When&#39\;s the last time you updated yours?</span></p>\n\n<p><span style="font-size:16px\;">Join us for a curated\, signature event hosted by AZ Is Media\, designed to help local business professionals refresh their image &amp\; expand their network all in one evening!</span></p>\n\n<p>&nbsp\;</p>\n\n<p><span style="font-size:16px\;">Here&#39\;s what to expect:</span></p>\n\n<ul>\n	<li><span style="font-size:16px\;">A Professional Headshot Session &ndash\; Each attendee will enjoy a personalized 10-minute photo session. Bring 1&ndash\;2 outfits to switch up your look and walk away with a variety of polished\, brand-ready images.</span></li>\n	<li><span style="font-size:16px\;">Your Final Deliverables &ndash\; Every participant will receive 3&ndash\;5 professionally edited images plus behind-the-scenes content from your session\, perfect for social media.</span></li>\n	<li><span style="font-size:16px\;">Networking\, Light Bites &amp\; Refreshments &ndash\; Stick around after your session to mingle with fellow professionals\, enjoy complimentary light bites and refreshments\, and make meaningful connections.</span></li>\n	<li><span style="font-size:16px\;">A Goodie Bag &ndash\; Because you deserve a little something extra! Each attendee will leave with a curated goodie bag.</span></li>\n</ul>\n\n<p><span style="font-size:16px\;">To ensure a quality\, personalized experience\, we&#39\;re offering headshots to the first 10 registrants.&nbsp\; However\, anyone is welcome to purchase a Just Networking ticket and still be part of the experience\, networking\, light bites\, and all.</span></p>\n
LOCATION:31 South Fullerton Ave 3rd Floor
UID:e.2237.5108
SEQUENCE:3
DTSTAMP:20260424T185507Z
URL:https://business.northessexchamber.com/events/details/the-headhsot-hour-5108
END:VEVENT

END:VCALENDAR
