BEGIN:VCALENDAR
VERSION:2.0
PRODID:-//ChamberMaster//Event Calendar 2.0//EN
METHOD:PUBLISH
X-PUBLISHED-TTL:P3D
REFRESH-INTERVAL:P3D
CALSCALE:GREGORIAN
BEGIN:VEVENT
DTSTART:20181013T203000Z
DTEND:20181014T000000Z
X-MICROSOFT-CDO-ALLDAYEVENT:FALSE
SUMMARY:The Leukemia & Lymphoma Society\, Light The Night Walk\, Verona
DESCRIPTION:Bring LIGHT to the darkness of cancer by helping fund lifesaving research and providing hope to patients and their families by joining The Leukemia & Lymphoma Society's Light The Night Walk in Verona\, NJ on Saturday\, October 13th\, 2018 at Verona Park.\n\n\n\nJoin the NECC team or make a donation at:  https://pages.lightthenight.org/nj/Verona18/northessexchamberofcommerce\n\n\n\nThe Leukemia & Lymphoma Society exists to find cures and ensure access to treatments for blood cancer patients.  Today\, LLS is the world's largest voluntary health agency dedicated to finding cures for leukemia\, lymphoma\, Hodgkin's disease and myeloma and all other blood cancers.  \n\n\n\nLight The Night is an inspirational community event that raises awarness and funding for groundbreaking research and treatment options to eliminate cancer.  In 2017\, our NJ walks reached more than 13\,000 people and raised over $3 million dollars for LLS.  The walk itself is about 1.5 miles and is wheelchair accessible and stroller friendly.  Anyone can participate.   During this special event\, fundraising participants carry illuminated lanterns\, in honor\, in memory\, and in support of those to cancer.  \n\n\n\nBecause of the generousity of our corporate and community teams\, the NJ Chapter continues to support groundbreaking research\, clinical trials\, and provides cancer patients and their families\, all across NJ.\n\n\n\nJoin us for this special evening by visiting www.lightthenight.org  Become a Champion For Cures by raising $100 for the walk. Become a Bright Light by raising $1000 for this event.  Every dollar that is raised goes 100% to the mission of The Leukemia & Lymphoma Society.  \n\n\n\nThere are many corporate and community partnerships available at our Verona walk\, so if you are interested in forming a walk team\, paper lantern sales\, or through sponsorships\, please contact Margarita Cianchetta at Margarita.Cianchetta@lls.org
X-ALT-DESC;FMTTYPE=text/html:<strong>Bring LIGHT to the darkness of cancer</strong> by helping fund lifesaving research and providing hope to patients and their families by joining <strong>The Leukemia &amp\; Lymphoma Society&#39\;s Light The Night Walk in Verona\, NJ on Saturday\, October 13th\, 2018 at Verona Park.<br />\n<br />\nJoin the NECC team or make a donation at:&nbsp\; </strong><a href="https://pages.lightthenight.org/nj/Verona18/northessexchamberofcommerce">https://pages.lightthenight.org/nj/Verona18/northessexchamberofcommerce</a><br />\n<br />\nThe Leukemia &amp\; Lymphoma Society exists to find cures and ensure access to treatments for blood cancer patients.&nbsp\; Today\, LLS is the world&#39\;s largest voluntary health agency dedicated to finding cures for leukemia\, lymphoma\, Hodgkin&#39\;s disease and myeloma and all other blood cancers.&nbsp\;&nbsp\;<br />\n<br />\nLight The Night is an inspirational community event that raises awarness and funding for groundbreaking research and treatment options to eliminate cancer.&nbsp\; In 2017\, our NJ walks reached more than 13\,000 people and raised over $3 million dollars for LLS.&nbsp\; The walk itself is about 1.5 miles and is wheelchair accessible and stroller friendly.&nbsp\; Anyone can participate.&nbsp\; &nbsp\;During this special event\, fundraising participants carry illuminated lanterns\, in honor\, in memory\, and in support of those to cancer.&nbsp\;&nbsp\;<br />\n<br />\nBecause of the generousity of our corporate and community teams\, the NJ Chapter continues to support groundbreaking research\, clinical trials\, and provides cancer patients and their families\, all across NJ.<br />\n<br />\nJoin us for this special evening by visiting www.lightthenight.org&nbsp\; Become a Champion For Cures by raising $100 for the walk. Become a Bright Light by raising $1000 for this event.&nbsp\; Every dollar that is raised goes 100% to the mission of The Leukemia &amp\; Lymphoma Society.&nbsp\;&nbsp\;<br />\n<br />\nThere are many corporate and community partnerships available at our Verona walk\, so if you are interested in forming a walk team\, paper lantern sales\, or through sponsorships\, please contact Margarita Cianchetta at Margarita.Cianchetta@lls.org<br />\n&nbsp\;
LOCATION:Verona Park\, Verona\, New Jersey
UID:e.2237.1424
SEQUENCE:3
DTSTAMP:20260419T165642Z
URL:https://business.northessexchamber.com/events/details/the-leukemia-lymphoma-society-light-the-night-walk-verona-1424
END:VEVENT

END:VCALENDAR
