BEGIN:VCALENDAR
VERSION:2.0
PRODID:-//ChamberMaster//Event Calendar 2.0//EN
METHOD:PUBLISH
X-PUBLISHED-TTL:P3D
REFRESH-INTERVAL:P3D
CALSCALE:GREGORIAN
BEGIN:VEVENT
DTSTART:20181018T163000Z
DTEND:20181018T171500Z
X-MICROSOFT-CDO-ALLDAYEVENT:FALSE
SUMMARY:Webinar: Strategic Partners - Why (duh) & How to Build Them
DESCRIPTION:Successful businesses do not thrive in isolation.\nBusiness owners need a strategic plan to attract partners and build relationships that will their take businesses to the next level. Leveraging the digital world\, tapping into their existing networks\, and promoting collaboration are the stepping stones to driving Strategic Partnerships.\n\n\n\nJoin us for an interactive webinar and discussion where Donna Miller will share her expertise on:\n\n*Why sitting at the right table is pivotal\n\n*Creating the plan and staying focused\n\n*Driving reciprocal referrals\n\n*Measuring success\n\n*Saying no\n\n\n\nClick here to attend live or to receive the recording: ZOOM WEBINAR
X-ALT-DESC;FMTTYPE=text/html:<div style="border:none\;border-bottom:solid windowtext 1.5pt\;padding:0in 0in 1.0pt 0in\;">Successful businesses do not thrive in isolation.\n<div style="border:none\;border-bottom:solid windowtext 1.5pt\;padding:0in 0in 1.0pt 0in\;">Business owners need a&nbsp\;strategic plan&nbsp\;to&nbsp\;attract partners&nbsp\;and&nbsp\;build relationships&nbsp\;that will their take businesses to the next level. Leveraging the digital world\, tapping into their existing networks\, and&nbsp\;promoting collaboration&nbsp\;are the stepping stones to driving Strategic Partnerships.<br />\n<br />\nJoin us for an interactive webinar and discussion where Donna Miller will share her expertise on:<br />\n*Why sitting at the right table is pivotal<br />\n*Creating the plan and staying focused<br />\n*Driving reciprocal referrals<br />\n*Measuring success<br />\n*Saying no<br />\n<br />\nClick here to attend live or to receive the recording:&nbsp\;<a href="https://zoom.us/webinar/register/WN_Ki9nByhkTDmF7Z6uq4kMCA" style="font-family: calibri\, sans-serif\; font-size: 14.6667px\;" target="_blank">ZOOM WEBINAR&nbsp\;</a></div>\n</div>\n
LOCATION:Click here to attend live or to receive the recording: ZOOM WEBINAR
UID:e.2237.1513
SEQUENCE:3
DTSTAMP:20260419T154028Z
URL:https://business.northessexchamber.com/events/details/webinar-strategic-partners-why-duh-how-to-build-them-1513
END:VEVENT

END:VCALENDAR
